BEGIN:VCALENDAR
VERSION:2.0
PRODID:-//Literacy Texas - ECPv6.15.17//NONSGML v1.0//EN
CALSCALE:GREGORIAN
METHOD:PUBLISH
X-ORIGINAL-URL:https://www.literacytexas.org
X-WR-CALDESC:Events for Literacy Texas
REFRESH-INTERVAL;VALUE=DURATION:PT1H
X-Robots-Tag:noindex
X-PUBLISHED-TTL:PT1H
BEGIN:VTIMEZONE
TZID:America/Chicago
BEGIN:DAYLIGHT
TZOFFSETFROM:-0600
TZOFFSETTO:-0500
TZNAME:CDT
DTSTART:20250309T080000
END:DAYLIGHT
BEGIN:STANDARD
TZOFFSETFROM:-0500
TZOFFSETTO:-0600
TZNAME:CST
DTSTART:20251102T070000
END:STANDARD
BEGIN:DAYLIGHT
TZOFFSETFROM:-0600
TZOFFSETTO:-0500
TZNAME:CDT
DTSTART:20260308T080000
END:DAYLIGHT
BEGIN:STANDARD
TZOFFSETFROM:-0500
TZOFFSETTO:-0600
TZNAME:CST
DTSTART:20261101T070000
END:STANDARD
BEGIN:DAYLIGHT
TZOFFSETFROM:-0600
TZOFFSETTO:-0500
TZNAME:CDT
DTSTART:20270314T080000
END:DAYLIGHT
BEGIN:STANDARD
TZOFFSETFROM:-0500
TZOFFSETTO:-0600
TZNAME:CST
DTSTART:20271107T070000
END:STANDARD
END:VTIMEZONE
BEGIN:VEVENT
DTSTART;TZID=America/Chicago:20260312T100000
DTEND;TZID=America/Chicago:20260312T110000
DTSTAMP:20260419T080804
CREATED:20260109T112928Z
LAST-MODIFIED:20260313T073012Z
UID:6214-1773309600-1773313200@www.literacytexas.org
SUMMARY:Best of Texas: Work Readiness & Soft Skills
DESCRIPTION:Learn from peers about best practices and innovative ideas being put into action at literacy programs across our great state. Best of Texas brings together local experts to share their wisdom and experience – and maybe help us all avoid a few pitfalls along the way.  Read more about the Best of Texas monthly online series. 								\n				\n					\n				\n		\n				\n				\n							\n			\n						\n		\n						\n				\n				\n				\n					QUICK LINKS FOR THIS BEST OF TEXAS EVENT:				\n				\n				\n				\n									Click on any of the links below to go straight to that section\, or simply scroll down the page. 								\n				\n				\n				\n									Basic details								\n				\n				\n				\n									About this month’s topic								\n				\n				\n				\n									Guests this month								\n				\n				\n				\n									Online registration								\n				\n				\n				\n									PD certificates								\n				\n				\n				\n									Special thanks								\n				\n				\n				\n							\n			\n						\n		\n						\n				\n				\n		\n					\n				\n				\n							\n						\n				\n				\n				\n							\n			\n		\n						\n				\n				\n				\n					BASIC DETAILS				\n				\n				\n				\n					SAVE THE DATE!				\n				\n				\n				\n									This online session will be held on: 								\n				\n				\n				\n									Thursday\, May 14\, 2026\, from 1:00 PM to 2:00 PM (CT). 								\n				\n				\n				\n									PLEASE NOTE NEW AFTERNOON TIME! 								\n				\n				\n				\n									The Zoom room will open to registered attendees at 12:50 PM. 								\n				\n				\n				\n									Please arrive on time – the Zoom room will close to late arrivals 30 minutes after the session begins. 								\n				\n				\n				\n									This online learning session is offered free of charge to Texas nonprofit professionals who work in the fields of adult and family literacy. 								\n				\n					\n				\n		\n					\n				\n				\n							\n						\n				\n				\n				\n							\n			\n						\n		\n						\n				\n				\n				\n							\n			\n		\n						\n				\n				\n				\n					ABOUT THIS MONTH'S TOPIC				\n				\n				\n				\n									Clear communication drives teamwork and career growth. From healthcare to banking to construction\, success depends on listening\, articulating ideas\, and adapting messages to diverse audiences. Texas AEFL programs are uniquely positioned to teach these skills\, strengthening both employment and family stability. This spotlight will show how clear communication can be embedded into adult literacy and workforce classes and highlight how AEFL programs prepare learners to collaborate\, lead\, and advance. 								\n				\n				\n				\n							\n			\n		\n						\n				\n					\n				\n				\n						\n					\n			\n						\n						\n					\n			\n						\n				\n					Primary Topic Area				\n				\n				\n				\n																\n															\n															\n				\n				\n				\n					Session will also cover:				\n				\n				\n				\n																\n															\n															\n				\n				\n				\n																\n															\n															\n				\n				\n				\n																\n															\n															\n				\n				\n				\n																\n															\n															\n				\n				\n				\n																\n															\n															\n				\n				\n				\n																\n															\n															\n				\n				\n				\n																\n															\n															\n				\n				\n				\n																\n															\n															\n				\n				\n				\n																\n															\n															\n				\n				\n				\n																\n															\n															\n				\n				\n				\n																\n															\n															\n				\n				\n				\n																\n															\n															\n				\n				\n				\n																\n															\n															\n				\n				\n				\n																\n															\n															\n				\n				\n				\n																\n															\n															\n				\n				\n				\n																\n															\n															\n				\n				\n				\n																\n															\n															\n				\n				\n				\n																\n															\n															\n				\n				\n				\n																\n															\n															\n				\n					\n		\n				\n			\n						\n				\n					Audience				\n				\n				\n				\n																\n															\n															\n				\n				\n				\n																\n															\n															\n				\n				\n				\n																\n															\n															\n				\n				\n				\n																\n															\n															\n				\n				\n				\n					Level				\n				\n				\n				\n																\n															\n															\n				\n				\n				\n																\n															\n															\n				\n				\n				\n																\n															\n															\n				\n					\n		\n				\n			\n						\n				\n					Texas AEL PD Category				\n				\n				\n				\n									Assigned by TCALL 								\n				\n				\n				\n									Pending 								\n				\n				\n				\n																\n															\n															\n				\n				\n				\n																\n															\n															\n				\n				\n				\n																\n															\n															\n				\n				\n				\n									Read more about the PD categories on the TCALL website. See the full Texas AEL Guide. 								\n				\n				\n				\n							\n			\n		\n						\n				\n					\n		\n				\n			\n						\n				\n					Other info:				\n				\n				\n				\n									No other info available at this time. 								\n				\n					\n		\n					\n		\n					\n		\n					\n		\n		\n					\n				\n				\n							\n						\n				\n				\n				\n							\n			\n						\n		\n						\n				\n				\n				\n							\n			\n		\n						\n				\n				\n				\n					GUESTS THIS MONTH				\n				\n				\n				\n									Guests to be confirmed. 								\n				\n					\n				\n				\n						\n					\n			\n						\n				\n																														\n				\n					\n		\n				\n			\n						\n				\n									NameTitleXY 								\n				\n				\n				\n									Info Info 								\n				\n				\n				\n							\n			\n						\n		\n						\n				\n					\n		\n					\n		\n				\n						\n					\n			\n						\n				\n																														\n				\n				\n				\n									NameTitleXY 								\n				\n					\n		\n				\n			\n						\n				\n									Info Info 								\n				\n				\n				\n							\n			\n						\n		\n						\n				\n					\n		\n					\n		\n		\n					\n				\n				\n							\n			\n						\n		\n						\n				\n				\n				\n									Host:								\n				\n					\n				\n				\n						\n					\n			\n						\n				\n																														\n				\n				\n				\n									Jacqueline AguileraCommunity Liaison & Program HostLiteracy Texas 								\n				\n					\n		\n				\n			\n						\n				\n									Jacqueline “Jackie” Aguilera has logged 38 years of diverse experience across educational and non-profit sectors. With a focus on adult literacy\, she has left an indelible mark on various initiatives and projects in the multi-layered field of adult literacy. As an experienced adult education innovations designer\, she earned a 2021 Ford Foundation Mujeres Legendarias Award for creative ed tech applications in adult education. Her service impact also extends beyond the classroom into the workforce. She empowers both employers and employees through worksite literacy training and independent consulting. She leads a local fellowship of adult education providers called the Houston Area Adult Literacy Collective (the incredible HAALC)\, serves on many committees\, boards\, and projects impacting adult learners and families\, and most recently served as Project Manager for Houston’s Mayor’s Office for Adult Literacy. In summary\, Jacqueline’s multifaceted career reflects a lifelong dedication to advancing literacy and education across diverse communities and platforms. Currently on a journey through breast cancer treatment\, she is more than ever committed to advancing the lives of all those she serves\, making her a messenger of inspiration\, innovation\, and evolution. 								\n				\n					\n		\n					\n		\n				\n						\n					\n			\n						\n				\n																														\n				\n				\n				\n									Dr. Jenny McCormack WalkerExecutive DirectorLiteracy Texas 								\n				\n					\n		\n				\n			\n						\n				\n									Dr. Jenny McCormack Walker serves as the Executive Director of Literacy Texas. She was a first-generation college student who personally knows the powerful role that education plays in helping change the course of a person’s life. This passion has fueled a career in education that has spanned over two decades and impacted thousands of students. She earned a doctorate in education leadership and a master’s degree in education administration\, both from Texas A&M University–Texarkana. She holds a Bachelor of Arts degree in journalism from the University of North Texas. Dr. Walker also attended Texarkana College and was a graduate of Liberty-Eylau High School.  She is a member of the 2025 Leadership Texas class and she currently serves as a member of the Digital Opportunity Advisory Group for the Texas Broadband Development Office. In 2024\, Dr. Walker represented Texas in COABE’s 2024 State Advocates for Adult Education Fellowship. 								\n				\n					\n		\n					\n		\n		\n					\n				\n				\n							\n						\n				\n				\n				\n							\n			\n						\n		\n						\n				\n				\n				\n							\n			\n		\n						\n				\n				\n				\n					FREE ONLINE REGISTRATION				\n				\n					\n				\n		\n					\n				\n				\n							\n			\n		\n						\n				\n				\n				\n									\n					\n						\n									click here to register now\n					\n					\n				\n								\n				\n				\n				\n							\n			\n		\n						\n				\n				\n				\n									REMINDER: CHECK YOUR SPAM 								\n				\n				\n				\n									Every online registration will generate an automated email response with further information. If you don’t see it arrive\, please check your junk mail! 								\n				\n				\n				\n									Online registration has now closed – but we have a few spots available for last-minute registrants! Call us on 972-926-3155 to make arrangements. 								\n				\n					\n				\n		\n					\n				\n				\n							\n						\n				\n				\n				\n							\n			\n						\n		\n						\n				\n				\n				\n							\n			\n		\n						\n				\n				\n				\n					PD CERTIFICATES				\n				\n				\n				\n									Participants who complete the full session will receive 1 hour of PD credit.  Literacy Texas defines “complete” as: Be present for at least 90% of the session;Remain on camera for the entire time you are present.								\n				\n				\n				\n									Certificates of completion will be awarded after the event. Complete the survey after the training is finished to give your details and get your certificate. Surveys will be sent via email after the training\, and certificates will be prepared and sent after the survey closes. Please pay attention to the due dates – after each event is wrapped up\, we will not be able to go back and re-issue your PD certificate. If you know you’ll need a certificate at a later date\, please take care to request it in a timely manner! 								\n				\n					\n				\n		\n					\n				\n				\n							\n						\n				\n				\n				\n							\n			\n						\n		\n						\n				\n				\n				\n							\n			\n		\n						\n				\n				\n				\n					SPECIAL THANKS				\n				\n				\n				\n									[presenter] 								\n				\n				\n				\n									[name of any sponsors or other partners – as many as relevant\, new line for each] 								\n				\n				\n				\n									The Texas Workforce Commission 								\n				\n					\n				\n		\n					\n				\n				\n							\n					\n				\n					\n				\n				\n							\n			\n						\n		\n						\n				\n				\n				\n					STAY IN THE KNOW - 				\n				\n				\n				\n									\n					\n						\n									click here to go to the literacy texas calendar\n					\n					\n				\n								\n				\n				\n				\n									\n					\n						\n									click here to see the national literacy calendar\n					\n					\n				\n								\n				\n				\n				\n							\n			\n		\n						\n				\n				\n				\n									Or get news directly from Literacy Texas: 								\n				\n					\n				\n		\n				\n				\n																\n															\n															\n				\n				\n				\n																\n															\n															\n				\n				\n				\n																\n															\n															\n				\n				\n				\n																\n															\n															\n				\n				\n				\n																\n															\n															\n				\n				\n				\n																\n															\n															\n				\n				\n				\n				\n						\n				\n					\n				\n		\n					\n				\n				\n									Thank you so much for your interest! This event is now over. 								\n				\n				\n				\n							\n			\n						\n		\n						\n				\n					\n				\n		\n					\n				\n				\n									Checked/updated 3/31/2026
URL:https://www.literacytexas.org/calendar/best-of-texas-mar-2026/
LOCATION:Online Event – Zoom
CATEGORIES:Best of Texas,Literacy Texas Events,Online Event
ATTACH;FMTTYPE=image/png:https://www.literacytexas.org/wp-content/uploads/GOOGLE-BEST-Work-Readiness-Soft-Skills-1200-x-300-px.png
ORGANIZER;CN="Literacy Texas":MAILTO:info@literacytexas.org
END:VEVENT
END:VCALENDAR