BEGIN:VCALENDAR
VERSION:2.0
PRODID:-//Literacy Texas - ECPv6.15.17//NONSGML v1.0//EN
CALSCALE:GREGORIAN
METHOD:PUBLISH
X-WR-CALNAME:Literacy Texas
X-ORIGINAL-URL:https://www.literacytexas.org
X-WR-CALDESC:Events for Literacy Texas
REFRESH-INTERVAL;VALUE=DURATION:PT1H
X-Robots-Tag:noindex
X-PUBLISHED-TTL:PT1H
BEGIN:VTIMEZONE
TZID:America/Chicago
BEGIN:DAYLIGHT
TZOFFSETFROM:-0600
TZOFFSETTO:-0500
TZNAME:CDT
DTSTART:20240310T080000
END:DAYLIGHT
BEGIN:STANDARD
TZOFFSETFROM:-0500
TZOFFSETTO:-0600
TZNAME:CST
DTSTART:20241103T070000
END:STANDARD
BEGIN:DAYLIGHT
TZOFFSETFROM:-0600
TZOFFSETTO:-0500
TZNAME:CDT
DTSTART:20250309T080000
END:DAYLIGHT
BEGIN:STANDARD
TZOFFSETFROM:-0500
TZOFFSETTO:-0600
TZNAME:CST
DTSTART:20251102T070000
END:STANDARD
BEGIN:DAYLIGHT
TZOFFSETFROM:-0600
TZOFFSETTO:-0500
TZNAME:CDT
DTSTART:20260308T080000
END:DAYLIGHT
BEGIN:STANDARD
TZOFFSETFROM:-0500
TZOFFSETTO:-0600
TZNAME:CST
DTSTART:20261101T070000
END:STANDARD
END:VTIMEZONE
BEGIN:VEVENT
DTSTART;TZID=America/Chicago:20250708T090000
DTEND;TZID=America/Chicago:20250708T100000
DTSTAMP:20260422T100841
CREATED:20250515T080522Z
LAST-MODIFIED:20250620T043608Z
UID:5423-1751965200-1751968800@www.literacytexas.org
SUMMARY:Coffee With Literacy Texas
DESCRIPTION:Want to ask a question? Need some help\, or want some new ideas or resources for your literacy program? Have some feedback or a request for an upcoming training session? 								\n				\n				\n				\n									Drop by this virtual session and chat with the Literacy Texas team. All literacy questions welcome! There’s no agenda and no presentation – just an open time for literacy chat. Join us online on Tuesday\, July 8\, any time between 9:00 AM and 10:00 AM Central (there’s no official “start” to this event\, so come whenever you like – and stay for as long or as short a time as you like). No prior registration is needed. We’re looking forward to sharing a cup of (virtual) coffee with you and seeing where the conversation takes us! 								\n				\n				\n				\n									\n					\n						\n									Click here on July 8 to join the session\n					\n					\n				\n								\n				\n				\n				\n					\n	\n		\n\n	\n	Add to calendar	\n		\n	\n\n		\n			\n									\n	Google Calendar\n\n									\n	iCalendar\n\n									\n	Outlook 365\n\n									\n	Outlook Live\n\n							\n		\n\n		\n	\n\n				\n				\n					\n				\n		\n					\n				\n				\n							\n					\n				\n					\n				\n				\n							\n			\n						\n		\n						\n				\n				\n				\n					STAY IN THE KNOW - 				\n				\n				\n				\n									\n					\n						\n									click here to go to the literacy texas calendar\n					\n					\n				\n								\n				\n				\n				\n									\n					\n						\n									click here to see the national literacy calendar\n					\n					\n				\n								\n				\n				\n				\n							\n			\n		\n						\n				\n				\n				\n									Or get news directly from Literacy Texas: 								\n				\n					\n				\n		\n				\n				\n																\n															\n															\n				\n				\n				\n																\n															\n															\n				\n				\n				\n																\n															\n															\n				\n				\n				\n																\n															\n															\n				\n				\n				\n																\n															\n															\n				\n				\n				\n																\n															\n															\n				\n				\n				\n				\n						\n				\n					\n				\n		\n					\n				\n				\n									Thank you so much for your interest! This event is now over. 								\n				\n				\n				\n							\n			\n						\n		\n						\n				\n					\n				\n		\n					\n				\n				\n									Checked/updated 5/15/25
URL:https://www.literacytexas.org/calendar/coffee-jul-2025/
LOCATION:Online Event – Zoom
CATEGORIES:Group Chat,Literacy Texas Events,Online Event
ATTACH;FMTTYPE=image/png:https://www.literacytexas.org/wp-content/uploads/Coffee-with-LitTX-cover-image-02-1200-x-300-px.png
ORGANIZER;CN="Literacy Texas":MAILTO:info@literacytexas.org
END:VEVENT
END:VCALENDAR