BEGIN:VCALENDAR
VERSION:2.0
PRODID:-//Literacy Texas - ECPv6.15.17//NONSGML v1.0//EN
CALSCALE:GREGORIAN
METHOD:PUBLISH
X-ORIGINAL-URL:https://www.literacytexas.org
X-WR-CALDESC:Events for Literacy Texas
REFRESH-INTERVAL;VALUE=DURATION:PT1H
X-Robots-Tag:noindex
X-PUBLISHED-TTL:PT1H
BEGIN:VTIMEZONE
TZID:America/Chicago
BEGIN:DAYLIGHT
TZOFFSETFROM:-0600
TZOFFSETTO:-0500
TZNAME:CDT
DTSTART:20230312T080000
END:DAYLIGHT
BEGIN:STANDARD
TZOFFSETFROM:-0500
TZOFFSETTO:-0600
TZNAME:CST
DTSTART:20231105T070000
END:STANDARD
BEGIN:DAYLIGHT
TZOFFSETFROM:-0600
TZOFFSETTO:-0500
TZNAME:CDT
DTSTART:20240310T080000
END:DAYLIGHT
BEGIN:STANDARD
TZOFFSETFROM:-0500
TZOFFSETTO:-0600
TZNAME:CST
DTSTART:20241103T070000
END:STANDARD
BEGIN:DAYLIGHT
TZOFFSETFROM:-0600
TZOFFSETTO:-0500
TZNAME:CDT
DTSTART:20250309T080000
END:DAYLIGHT
BEGIN:STANDARD
TZOFFSETFROM:-0500
TZOFFSETTO:-0600
TZNAME:CST
DTSTART:20251102T070000
END:STANDARD
BEGIN:DAYLIGHT
TZOFFSETFROM:-0600
TZOFFSETTO:-0500
TZNAME:CDT
DTSTART:20260308T080000
END:DAYLIGHT
BEGIN:STANDARD
TZOFFSETFROM:-0500
TZOFFSETTO:-0600
TZNAME:CST
DTSTART:20261101T070000
END:STANDARD
END:VTIMEZONE
BEGIN:VEVENT
DTSTART;TZID=America/Chicago:20250825T130000
DTEND;TZID=America/Chicago:20250825T140000
DTSTAMP:20260421T072300
CREATED:20250724T090009Z
LAST-MODIFIED:20250724T090035Z
UID:5679-1756126800-1756130400@www.literacytexas.org
SUMMARY:2025 Focus Group #2
DESCRIPTION:As part of our Annual Survey\, we hold focus groups with literacy folks across Texas\, to hear more about what you need right now and how we can best be helpful over the coming 12 – 18 months. We can’t promise that we can do everything you want\, but our ears are open\, and there are NO silly ideas! We want to hear what you need\, what you want – and what would need to happen for your wildest literacy dreams to be fulfilled. Plus\, this year\, we want to hear how funding uncertainty and cuts across adult education are affecting you\, your program\, and your community. Check your email for an invitation!
URL:https://www.literacytexas.org/calendar/2025-focus-group-2/
LOCATION:Online Event – Zoom
CATEGORIES:Focus Group,Literacy Texas Events,Online Event
ATTACH;FMTTYPE=image/png:https://www.literacytexas.org/wp-content/uploads/Focus-Groups-cover-image-01.png
ORGANIZER;CN="Literacy Texas":MAILTO:info@literacytexas.org
END:VEVENT
BEGIN:VEVENT
DTSTART;TZID=America/Chicago:20250821T100000
DTEND;TZID=America/Chicago:20250821T110000
DTSTAMP:20260421T072300
CREATED:20250724T085623Z
LAST-MODIFIED:20250724T085748Z
UID:5678-1755770400-1755774000@www.literacytexas.org
SUMMARY:2025 Focus Group #1
DESCRIPTION:As part of our Annual Survey\, we hold focus groups with literacy folks across Texas\, to hear more about what you need right now and how we can best be helpful over the coming 12 – 18 months. We can’t promise that we can do everything you want\, but our ears are open\, and there are NO silly ideas! We want to hear what you need\, what you want – and what would need to happen for your wildest literacy dreams to be fulfilled. Plus\, this year\, we want to hear how funding uncertainty and cuts across adult education are affecting you\, your program\, and your community. Check your email for an invitation!
URL:https://www.literacytexas.org/calendar/2025-focus-group-1/
LOCATION:Online Event – Zoom
CATEGORIES:Focus Group,Literacy Texas Events,Online Event
ATTACH;FMTTYPE=image/png:https://www.literacytexas.org/wp-content/uploads/Focus-Groups-cover-image-01.png
ORGANIZER;CN="Literacy Texas":MAILTO:info@literacytexas.org
END:VEVENT
BEGIN:VEVENT
DTSTART;TZID=America/Chicago:20240812T140000
DTEND;TZID=America/Chicago:20240812T150000
DTSTAMP:20260421T072300
CREATED:20240511T024222Z
LAST-MODIFIED:20240806T101402Z
UID:4309-1723471200-1723474800@www.literacytexas.org
SUMMARY:Focus Group #2
DESCRIPTION:As part of our Annual Survey\, we hold focus groups with literacy folks across Texas\, to hear more about what you need right now and how we can best be helpful over the coming 12 – 18 months. We can’t promise that we can do everything you want\, but our ears are open\, and there are NO silly ideas! We want to hear what you need\, what you want – and what would need to happen for your wildest literacy dreams to be fulfilled. Plus\, this year\, we want to hear how funding uncertainty and cuts across adult education are affecting you\, your program\, and your community. Check your email for an invitation!
URL:https://www.literacytexas.org/calendar/2024-focus-group-2/
LOCATION:Online Event – Zoom
CATEGORIES:Focus Group,Literacy Texas Events,Online Event
ATTACH;FMTTYPE=image/png:https://www.literacytexas.org/wp-content/uploads/Focus-Groups-cover-image-01.png
ORGANIZER;CN="Literacy Texas":MAILTO:info@literacytexas.org
END:VEVENT
BEGIN:VEVENT
DTSTART;TZID=America/Chicago:20240808T093000
DTEND;TZID=America/Chicago:20240808T103000
DTSTAMP:20260421T072300
CREATED:20240511T023748Z
LAST-MODIFIED:20240806T101400Z
UID:4307-1723109400-1723113000@www.literacytexas.org
SUMMARY:Focus Group #1
DESCRIPTION:As part of our Annual Survey\, we hold focus groups with literacy folks across Texas\, to hear more about what you need right now and how we can best be helpful over the coming 12 – 18 months. We can’t promise that we can do everything you want\, but our ears are open\, and there are NO silly ideas! We want to hear what you need\, what you want – and what would need to happen for your wildest literacy dreams to be fulfilled. Plus\, this year\, we want to hear how funding uncertainty and cuts across adult education are affecting you\, your program\, and your community. Check your email for an invitation!
URL:https://www.literacytexas.org/calendar/2024-focus-group-1/
LOCATION:Online Event – Zoom
CATEGORIES:Focus Group,Literacy Texas Events,Online Event
ATTACH;FMTTYPE=image/png:https://www.literacytexas.org/wp-content/uploads/Focus-Groups-cover-image-01.png
ORGANIZER;CN="Literacy Texas":MAILTO:info@literacytexas.org
END:VEVENT
END:VCALENDAR